BEGIN:VCALENDAR
VERSION:2.0
PRODID:-//Kreativwerkstatt - ECPv6.15.20//NONSGML v1.0//EN
CALSCALE:GREGORIAN
METHOD:PUBLISH
X-ORIGINAL-URL:https://kreativwerkstattterra.de
X-WR-CALDESC:Veranstaltungen für Kreativwerkstatt
REFRESH-INTERVAL;VALUE=DURATION:PT1H
X-Robots-Tag:noindex
X-PUBLISHED-TTL:PT1H
BEGIN:VTIMEZONE
TZID:Europe/Berlin
BEGIN:DAYLIGHT
TZOFFSETFROM:+0100
TZOFFSETTO:+0200
TZNAME:CEST
DTSTART:20250330T010000
END:DAYLIGHT
BEGIN:STANDARD
TZOFFSETFROM:+0200
TZOFFSETTO:+0100
TZNAME:CET
DTSTART:20251026T010000
END:STANDARD
BEGIN:DAYLIGHT
TZOFFSETFROM:+0100
TZOFFSETTO:+0200
TZNAME:CEST
DTSTART:20260329T010000
END:DAYLIGHT
BEGIN:STANDARD
TZOFFSETFROM:+0200
TZOFFSETTO:+0100
TZNAME:CET
DTSTART:20261025T010000
END:STANDARD
BEGIN:DAYLIGHT
TZOFFSETFROM:+0100
TZOFFSETTO:+0200
TZNAME:CEST
DTSTART:20270328T010000
END:DAYLIGHT
BEGIN:STANDARD
TZOFFSETFROM:+0200
TZOFFSETTO:+0100
TZNAME:CET
DTSTART:20271031T010000
END:STANDARD
END:VTIMEZONE
BEGIN:VEVENT
DTSTART;TZID=Europe/Berlin:20261228T190000
DTEND;TZID=Europe/Berlin:20261228T220000
DTSTAMP:20260419T181917
CREATED:20241028T112027Z
LAST-MODIFIED:20260105T125408Z
UID:2173-1798484400-1798495200@kreativwerkstattterra.de
SUMMARY:Jahresabschluss mit dem sibirischen Ritual des Sterbens und der Wiedergeburt
DESCRIPTION:Im Klangfeld der großen Medizintrommel.
URL:https://kreativwerkstattterra.de/event/jahresabschluss-mit-dem-sibirischen-ritual-des-sterbens-und-der-wiedergeburt/
END:VEVENT
BEGIN:VEVENT
DTSTART;TZID=Europe/Berlin:20261229T190000
DTEND;TZID=Europe/Berlin:20261229T220000
DTSTAMP:20260419T181917
CREATED:20251020T121843Z
LAST-MODIFIED:20260105T125818Z
UID:2272-1798570800-1798581600@kreativwerkstattterra.de
SUMMARY:Jahresabschlussritual mit dem sibirischen Ritual des Sterben und der Wiedergeburt
DESCRIPTION:Mit der großen Medizintrommel\, den Steinwesen\, den Pflanzenhelfern und heilsamer Stimme und Klang.
URL:https://kreativwerkstattterra.de/event/jahresabschlussritual/
END:VEVENT
END:VCALENDAR